BEGIN:VCALENDAR
VERSION:2.0
PRODID:-//NEW HOPE ALANO - ECPv5.6.0//NONSGML v1.0//EN
CALSCALE:GREGORIAN
METHOD:PUBLISH
X-WR-CALNAME:NEW HOPE ALANO
X-ORIGINAL-URL:https://newhopealano.org
X-WR-CALDESC:Events for NEW HOPE ALANO
BEGIN:VTIMEZONE
TZID:UTC
BEGIN:STANDARD
TZOFFSETFROM:+0000
TZOFFSETTO:+0000
TZNAME:UTC
DTSTART:20210101T000000
END:STANDARD
END:VTIMEZONE
BEGIN:VEVENT
DTSTART;TZID=UTC:20210706T190000
DTEND;TZID=UTC:20210706T200000
DTSTAMP:20260421T083146
CREATED:20210629T230757Z
LAST-MODIFIED:20210630T001528Z
UID:518-1625598000-1625601600@newhopealano.org
SUMMARY:NHA A&A Meeting
DESCRIPTION:NHA  A&A  7-8 PM \n 
URL:https://newhopealano.org/event/518/
END:VEVENT
BEGIN:VEVENT
DTSTART;TZID=UTC:20210710T200000
DTEND;TZID=UTC:20210710T210000
DTSTAMP:20260421T083146
CREATED:20210706T013211Z
LAST-MODIFIED:20210706T013211Z
UID:545-1625947200-1625950800@newhopealano.org
SUMMARY:NHA-General Speaker Meeting-Heather M-St Paul
DESCRIPTION:
URL:https://newhopealano.org/event/nha-general-speaker-meeting-heather-m-st-paul/
END:VEVENT
BEGIN:VEVENT
DTSTART;TZID=UTC:20210713T190000
DTEND;TZID=UTC:20210713T200000
DTSTAMP:20260421T083146
CREATED:20210629T233721Z
LAST-MODIFIED:20210630T001447Z
UID:523-1626202800-1626206400@newhopealano.org
SUMMARY:NHA Squad Leaders Meeting
DESCRIPTION:
URL:https://newhopealano.org/event/nha-squad-leaders-meeting-2/
END:VEVENT
BEGIN:VEVENT
DTSTART;TZID=UTC:20210717T100000
DTEND;TZID=UTC:20210717T100000
DTSTAMP:20260421T083146
CREATED:20210522T102505Z
LAST-MODIFIED:20210522T102505Z
UID:398-1626516000-1626516000@newhopealano.org
SUMMARY:New Hope Alano Picnic
DESCRIPTION:
URL:https://newhopealano.org/event/new-hope-alano-picnic/
LOCATION:Fish Lake Pavilion\, 14900 Bass Lake Rd\, Maple Grove\, Maple Grove\, MN\, 55311\, United States
END:VEVENT
BEGIN:VEVENT
DTSTART;TZID=UTC:20210717T200000
DTEND;TZID=UTC:20210717T210000
DTSTAMP:20260421T083146
CREATED:20210713T005849Z
LAST-MODIFIED:20210713T005849Z
UID:550-1626552000-1626555600@newhopealano.org
SUMMARY:NHA-General Speaker Meeting- Call Up
DESCRIPTION:
URL:https://newhopealano.org/event/nha-general-speaker-meeting-call-up/
END:VEVENT
BEGIN:VEVENT
DTSTART;TZID=UTC:20210720T173000
DTEND;TZID=UTC:20210720T183000
DTSTAMP:20260421T083146
CREATED:20210629T234217Z
LAST-MODIFIED:20210629T234217Z
UID:526-1626802200-1626805800@newhopealano.org
SUMMARY:NHA Board Meeting
DESCRIPTION:
URL:https://newhopealano.org/event/nha-board-meeting-2/
END:VEVENT
BEGIN:VEVENT
DTSTART;TZID=UTC:20210720T173000
DTEND;TZID=UTC:20210720T183000
DTSTAMP:20260421T083146
CREATED:20210713T010325Z
LAST-MODIFIED:20210713T010325Z
UID:556-1626802200-1626805800@newhopealano.org
SUMMARY:NHA- Monthly Board Meeting
DESCRIPTION:
URL:https://newhopealano.org/event/nha-monthly-board-meeting/
END:VEVENT
BEGIN:VEVENT
DTSTART;TZID=UTC:20210724T180000
DTEND;TZID=UTC:20210724T193000
DTSTAMP:20260421T083146
CREATED:20210713T010214Z
LAST-MODIFIED:20210713T010214Z
UID:554-1627149600-1627155000@newhopealano.org
SUMMARY:Fellowship at the club- Join us for a meal before The General Speaker Meeting
DESCRIPTION:
URL:https://newhopealano.org/event/fellowship-at-the-club-join-us-for-a-meal-before-the-general-speaker-meeting-2/
END:VEVENT
BEGIN:VEVENT
DTSTART;TZID=UTC:20210724T200000
DTEND;TZID=UTC:20210724T210000
DTSTAMP:20260421T083146
CREATED:20210713T010010Z
LAST-MODIFIED:20210713T010010Z
UID:552-1627156800-1627160400@newhopealano.org
SUMMARY:NHA-General Speaker Meeting- Kevin S
DESCRIPTION:
URL:https://newhopealano.org/event/nha-general-speaker-meeting-kevin-s/
END:VEVENT
BEGIN:VEVENT
DTSTART;TZID=UTC:20210731T180000
DTEND;TZID=UTC:20210731T193000
DTSTAMP:20260421T083146
CREATED:20210727T012154Z
LAST-MODIFIED:20210727T012154Z
UID:601-1627754400-1627759800@newhopealano.org
SUMMARY:Fellowship at the club- Join us for a meal before The General Speaker Meeting July 31 @ 6:00 pm - 7:30 pm
DESCRIPTION:
URL:https://newhopealano.org/event/fellowship-at-the-club-join-us-for-a-meal-before-the-general-speaker-meeting-july-31-600-pm-730-pm/
END:VEVENT
BEGIN:VEVENT
DTSTART;TZID=UTC:20210731T200000
DTEND;TZID=UTC:20210731T210000
DTSTAMP:20260421T083146
CREATED:20210727T012807Z
LAST-MODIFIED:20210727T012807Z
UID:604-1627761600-1627765200@newhopealano.org
SUMMARY:NHA-General Speaker Meeting-Call Up Meeting
DESCRIPTION:
URL:https://newhopealano.org/event/nha-general-speaker-meeting-call-up-meeting/
END:VEVENT
END:VCALENDAR