BEGIN:VCALENDAR
VERSION:2.0
PRODID:-//NEW HOPE ALANO - ECPv5.6.0//NONSGML v1.0//EN
CALSCALE:GREGORIAN
METHOD:PUBLISH
X-WR-CALNAME:NEW HOPE ALANO
X-ORIGINAL-URL:https://newhopealano.org
X-WR-CALDESC:Events for NEW HOPE ALANO
BEGIN:VTIMEZONE
TZID:UTC
BEGIN:STANDARD
TZOFFSETFROM:+0000
TZOFFSETTO:+0000
TZNAME:UTC
DTSTART:20210101T000000
END:STANDARD
END:VTIMEZONE
BEGIN:VEVENT
DTSTART;TZID=UTC:20210710T200000
DTEND;TZID=UTC:20210710T210000
DTSTAMP:20260421T121321
CREATED:20210706T013211Z
LAST-MODIFIED:20210706T013211Z
UID:545-1625947200-1625950800@newhopealano.org
SUMMARY:NHA-General Speaker Meeting-Heather M-St Paul
DESCRIPTION:
URL:https://newhopealano.org/event/nha-general-speaker-meeting-heather-m-st-paul/
END:VEVENT
END:VCALENDAR