BEGIN:VCALENDAR
VERSION:2.0
PRODID:-//NEW HOPE ALANO - ECPv5.6.0//NONSGML v1.0//EN
CALSCALE:GREGORIAN
METHOD:PUBLISH
X-WR-CALNAME:NEW HOPE ALANO
X-ORIGINAL-URL:https://newhopealano.org
X-WR-CALDESC:Events for NEW HOPE ALANO
BEGIN:VTIMEZONE
TZID:UTC
BEGIN:STANDARD
TZOFFSETFROM:+0000
TZOFFSETTO:+0000
TZNAME:UTC
DTSTART:20210101T000000
END:STANDARD
END:VTIMEZONE
BEGIN:VEVENT
DTSTART;TZID=UTC:20210706T190000
DTEND;TZID=UTC:20210706T200000
DTSTAMP:20260421T105701
CREATED:20210629T230757Z
LAST-MODIFIED:20210630T001528Z
UID:518-1625598000-1625601600@newhopealano.org
SUMMARY:NHA A&A Meeting
DESCRIPTION:NHA  A&A  7-8 PM \n 
URL:https://newhopealano.org/event/518/
END:VEVENT
END:VCALENDAR