BEGIN:VCALENDAR
VERSION:2.0
PRODID:-//NEW HOPE ALANO - ECPv5.6.0//NONSGML v1.0//EN
CALSCALE:GREGORIAN
METHOD:PUBLISH
X-WR-CALNAME:NEW HOPE ALANO
X-ORIGINAL-URL:https://newhopealano.org
X-WR-CALDESC:Events for NEW HOPE ALANO
BEGIN:VTIMEZONE
TZID:UTC
BEGIN:STANDARD
TZOFFSETFROM:+0000
TZOFFSETTO:+0000
TZNAME:UTC
DTSTART:20210101T000000
END:STANDARD
END:VTIMEZONE
BEGIN:VEVENT
DTSTART;TZID=UTC:20210626T180000
DTEND;TZID=UTC:20210626T194500
DTSTAMP:20260421T150154
CREATED:20210616T011003Z
LAST-MODIFIED:20210616T011003Z
UID:496-1624730400-1624736700@newhopealano.org
SUMMARY:Fellowship at the club-Join us for a meal before the General Meeting.
DESCRIPTION:
URL:https://newhopealano.org/event/fellowship-at-the-club-join-us-for-a-meal-before-the-general-meeting/
END:VEVENT
BEGIN:VEVENT
DTSTART;TZID=UTC:20210626T200000
DTEND;TZID=UTC:20210626T210000
DTSTAMP:20260421T150154
CREATED:20210616T010744Z
LAST-MODIFIED:20210616T010744Z
UID:494-1624737600-1624741200@newhopealano.org
SUMMARY:NHA General Speaker Meeting- Speaker Kelly T
DESCRIPTION:
URL:https://newhopealano.org/event/nha-general-speaker-meeting-speaker-kelly-t/
END:VEVENT
END:VCALENDAR