BEGIN:VCALENDAR
VERSION:2.0
PRODID:-//NEW HOPE ALANO - ECPv5.6.0//NONSGML v1.0//EN
CALSCALE:GREGORIAN
METHOD:PUBLISH
X-WR-CALNAME:NEW HOPE ALANO
X-ORIGINAL-URL:https://newhopealano.org
X-WR-CALDESC:Events for NEW HOPE ALANO
BEGIN:VTIMEZONE
TZID:UTC
BEGIN:STANDARD
TZOFFSETFROM:+0000
TZOFFSETTO:+0000
TZNAME:UTC
DTSTART:20210101T000000
END:STANDARD
END:VTIMEZONE
BEGIN:VEVENT
DTSTART;TZID=UTC:20210619T180000
DTEND;TZID=UTC:20210619T194500
DTSTAMP:20260421T120933
CREATED:20210615T002046Z
LAST-MODIFIED:20210615T002046Z
UID:477-1624125600-1624131900@newhopealano.org
SUMMARY:Fellowship at the club- Join us for a meal before The General Speaker Meeting
DESCRIPTION:
URL:https://newhopealano.org/event/fellowship-at-the-club-join-us-for-a-meal-before-the-general-speaker-meeting/
END:VEVENT
BEGIN:VEVENT
DTSTART;TZID=UTC:20210619T200000
DTEND;TZID=UTC:20210619T210000
DTSTAMP:20260421T120933
CREATED:20210614T231107Z
LAST-MODIFIED:20210614T231519Z
UID:471-1624132800-1624136400@newhopealano.org
SUMMARY:NHA General Speaker Meeting-Call Up Meeting
DESCRIPTION:
URL:https://newhopealano.org/event/nha-general-speaker-meeting/
END:VEVENT
END:VCALENDAR