BEGIN:VCALENDAR
VERSION:2.0
PRODID:-//NEW HOPE ALANO - ECPv5.6.0//NONSGML v1.0//EN
CALSCALE:GREGORIAN
METHOD:PUBLISH
X-WR-CALNAME:NEW HOPE ALANO
X-ORIGINAL-URL:https://newhopealano.org
X-WR-CALDESC:Events for NEW HOPE ALANO
BEGIN:VTIMEZONE
TZID:UTC
BEGIN:STANDARD
TZOFFSETFROM:+0000
TZOFFSETTO:+0000
TZNAME:UTC
DTSTART:20210101T000000
END:STANDARD
END:VTIMEZONE
BEGIN:VEVENT
DTSTART;TZID=UTC:20210601T190000
DTEND;TZID=UTC:20210601T200000
DTSTAMP:20260421T094506
CREATED:20210522T103231Z
LAST-MODIFIED:20210630T001637Z
UID:401-1622574000-1622577600@newhopealano.org
SUMMARY:NHA A&A Meeting
DESCRIPTION:
URL:https://newhopealano.org/event/aa-meeting/
LOCATION:The Club\, 7550 Bass Lake Rd\, New Hope\, MN\, 55428\, United States
END:VEVENT
END:VCALENDAR